BEGIN:VCALENDAR
PRODID:-//eluceo/ical//2.0/EN
VERSION:2.0
CALSCALE:GREGORIAN
BEGIN:VEVENT
UID:e5ab9e82483a7e7c1daa215d76ed4ad0
DTSTAMP:20260423T160743Z
SUMMARY:Hadassah Collier/Lee Chapter Keepers Reunion
DESCRIPTION:Jewish Federation of Greater Naples\nCommunity Calendar\nhttps:
 //jewishnaples.org/calendar/hadassah-collierlee-chapter-keepers-reunion\n\
 nHadassah Collier/Lee Chapter\n\nThe Keepers Reunion\n\n10:30 am-12:00 pm\
 n\nprivate home
DTSTART;TZID=America/New_York:20180304T103000
DTEND;TZID=America/New_York:20180304T120000
END:VEVENT
END:VCALENDAR
