BEGIN:VCALENDAR
PRODID:-//eluceo/ical//2.0/EN
VERSION:2.0
CALSCALE:GREGORIAN
BEGIN:VEVENT
UID:a8f901727f2ab02d3f160f5cdd76c5c9
DTSTAMP:20260423T200044Z
SUMMARY:Guest speaker
DESCRIPTION:Jewish Federation of Greater Naples\nCommunity Calendar\nhttps:
 //jewishnaples.org/calendar/guest-speaker-1525958486\n\nFor more informati
 on please contact Temple Shalom.
DTSTART;TZID=America/New_York:20181025T193000
DTEND;TZID=America/New_York:20181025T210000
END:VEVENT
END:VCALENDAR
