BEGIN:VCALENDAR
PRODID:-//eluceo/ical//2.0/EN
VERSION:2.0
CALSCALE:GREGORIAN
BEGIN:VEVENT
UID:cbefe36c888e5a9b7f8534493e8b06e7
DTSTAMP:20260422T141718Z
SUMMARY:GS WWII Film
DESCRIPTION:Jewish Federation of Greater Naples\nCommunity Calendar\nhttps:
 //jewishnaples.org/calendar/gs-wwii-film\n\nWWII film: My Italian Secret. 
  \n\n 
DTSTART;TZID=America/New_York:20161208T190000
DTEND;TZID=America/New_York:20161208T190000
END:VEVENT
END:VCALENDAR
