BEGIN:VCALENDAR
PRODID:-//eluceo/ical//2.0/EN
VERSION:2.0
CALSCALE:GREGORIAN
BEGIN:VEVENT
UID:336bcc1599863b46086b6e1b8ebb162d
DTSTAMP:20260422T120915Z
SUMMARY:GS Meeting and Film October
DESCRIPTION:Jewish Federation of Greater Naples\nCommunity Calendar\nhttps:
 //jewishnaples.org/calendar/gs-meeting-and-film-october\n\nGenShoah
DTSTART;TZID=America/New_York:20161016T163000
DTEND;TZID=America/New_York:20161016T163000
END:VEVENT
END:VCALENDAR
