BEGIN:VCALENDAR
PRODID:-//eluceo/ical//2.0/EN
VERSION:2.0
CALSCALE:GREGORIAN
BEGIN:VEVENT
UID:e40669b8499ccb05edfe0becc0095ce0
DTSTAMP:20260422T100214Z
SUMMARY:GS Meeting and Discussion
DESCRIPTION:Jewish Federation of Greater Naples\nCommunity Calendar\nhttps:
 //jewishnaples.org/calendar/gs-meeting-and-discussion\n\nGenShoah
DTSTART;TZID=America/New_York:20170219T170000
DTEND;TZID=America/New_York:20170219T170000
END:VEVENT
END:VCALENDAR
