BEGIN:VCALENDAR
PRODID:-//eluceo/ical//2.0/EN
VERSION:2.0
CALSCALE:GREGORIAN
BEGIN:VEVENT
UID:070cac00c1a9d44073bb7d3e6db94f03
DTSTAMP:20260423T085918Z
SUMMARY:GS Holocaust Trip
DESCRIPTION:Jewish Federation of Greater Naples\nCommunity Calendar\nhttps:
 //jewishnaples.org/calendar/gs-holocaust-trip\n\nGenShoah
DTSTART;TZID=America/New_York:20170115T110000
DTEND;TZID=America/New_York:20170115T110000
END:VEVENT
END:VCALENDAR
