BEGIN:VCALENDAR
PRODID:-//eluceo/ical//2.0/EN
VERSION:2.0
CALSCALE:GREGORIAN
BEGIN:VEVENT
UID:fab4643052fa61b7e49d2f87597d5fa7
DTSTAMP:20260424T040659Z
SUMMARY:GS Film Nov.
DESCRIPTION:Jewish Federation of Greater Naples\nCommunity Calendar\nhttps:
 //jewishnaples.org/calendar/gs-film-nov\n\nGenShoah 
DTSTART;TZID=America/New_York:20161116T190000
DTEND;TZID=America/New_York:20161116T190000
END:VEVENT
END:VCALENDAR
