BEGIN:VCALENDAR
PRODID:-//eluceo/ical//2.0/EN
VERSION:2.0
CALSCALE:GREGORIAN
BEGIN:VEVENT
UID:16b528f9199bcefd0f7567fe39287e39
DTSTAMP:20260423T004158Z
SUMMARY:GS Film and Pot Luck
DESCRIPTION:Jewish Federation of Greater Naples\nCommunity Calendar\nhttps:
 //jewishnaples.org/calendar/gs-film-and-pot-luck\n\nGenShoah
DTSTART;TZID=America/New_York:20161120T170000
DTEND;TZID=America/New_York:20161120T170000
END:VEVENT
END:VCALENDAR
