BEGIN:VCALENDAR
PRODID:-//eluceo/ical//2.0/EN
VERSION:2.0
CALSCALE:GREGORIAN
BEGIN:VEVENT
UID:d10efaf70c7aa4947e16859e4943a7dd
DTSTAMP:20260421T140639Z
SUMMARY:Growing Up Socialist discussion with Author
DESCRIPTION:Jewish Federation of Greater Naples\nCommunity Calendar\nhttps:
 //jewishnaples.org/calendar/growing-up-socialist-discussion-with-author-17
 20730511\n\nMy Life Through My Dresses - Growing Up Socialist\n\nA memoir 
 that reads like a novel by Marina Berkovich is about the author's childhoo
 d in the USSR and the amazing story of her remembering herself since just 
 over one year of age\, thanks\, or rather\, not\, to her dysfunctional Jew
 ish family. Subjected to institutionalized anti-Semitism in the capital of
  Ukraine\, Marina strives to conform to socialist ideals\, yet inadvertent
 ly sets events in motion that will ultimately allow to create a plausib...
DTSTART;TZID=America/New_York:20241029T113000
DTEND;TZID=America/New_York:20241029T123000
END:VEVENT
END:VCALENDAR
