BEGIN:VCALENDAR
PRODID:-//eluceo/ical//2.0/EN
VERSION:2.0
CALSCALE:GREGORIAN
BEGIN:VEVENT
UID:1dd52143eaca071fb3f3818f39ec96c4
DTSTAMP:20260422T064856Z
SUMMARY:Grandparents connect Special Needs Grandchildren
DESCRIPTION:Jewish Federation of Greater Naples\nCommunity Calendar\nhttps:
 //jewishnaples.org/calendar/grandparents-connect-special-needs-grandchildr
 en\n\nConnections\, Conversation\, & Coffee with Sue Abrams\, The Social 
 Coach\n\nTuesday\, November 19\n\n10:00-11:30 am\n\nNina Iser Jewish Cultu
 ral Center\n\n \n\nWe warmly invite all grandparents of children with spe
 cial needs to a unique networking event. This is a wonderful opportunity t
 o:\n\n\nConnect with other grandparents who share similar experiences\nSha
 re stories and advice\nLearn about resources and support available\nBuild 
 a supportive community\n\n\n \n\nWhy Attend?\n\n\nSupport...
DTSTART;TZID=America/New_York:20241119T100000
DTEND;TZID=America/New_York:20241119T113000
END:VEVENT
END:VCALENDAR
