BEGIN:VCALENDAR
PRODID:-//eluceo/ical//2.0/EN
VERSION:2.0
CALSCALE:GREGORIAN
BEGIN:VEVENT
UID:b53a21b0d081c1735907a4e34e1e16d1
DTSTAMP:20260420T190903Z
SUMMARY:Global Connections with Robert Siegel: Combating Antisemitism
DESCRIPTION:Jewish Federation of Greater Naples\nCommunity Calendar\nhttps:
 //jewishnaples.org/calendar/global-connections-with-robert-siegel-combatin
 g-antisemitism-1694024350\n\nRobert Siegel (NPR) interviews: Dr. Georgette
  Bennett\, Dan Granot & Tamara Berens
DTSTART;TZID=America/New_York:20230913T160000
DTEND;TZID=America/New_York:20230913T170000
END:VEVENT
END:VCALENDAR
