BEGIN:VCALENDAR
PRODID:-//eluceo/ical//2.0/EN
VERSION:2.0
CALSCALE:GREGORIAN
BEGIN:VEVENT
UID:c374c5b8d96ba0ef55572e2556650f08
DTSTAMP:20260422T220149Z
SUMMARY:GenShoah Readers and Learners Book Club  & Discussion Program
DESCRIPTION:Jewish Federation of Greater Naples\nCommunity Calendar\nhttps:
 //jewishnaples.org/calendar/genshoah-readers-and-learners-book-club---disc
 ussion-program-1745596040\n\nDiscussion of the book Life in A Jar - The Ir
 ena Sendler Project by Jack Mayer. No need to read the book to attend. RSV
 P required to ekafer520@gmail.com.
DTSTART;TZID=America/New_York:20251118T110000
DTEND;TZID=America/New_York:20251118T120000
END:VEVENT
END:VCALENDAR
