BEGIN:VCALENDAR
PRODID:-//eluceo/ical//2.0/EN
VERSION:2.0
CALSCALE:GREGORIAN
BEGIN:VEVENT
UID:b8947312b67e8cfe9b2ef6aa998f8612
DTSTAMP:20260419T223228Z
SUMMARY:GenShoah Program
DESCRIPTION:Jewish Federation of Greater Naples\nCommunity Calendar\nhttps:
 //jewishnaples.org/calendar/genshoah-program\n\nGenShoah\n\nDr. Ken Wetche
 r and Shelley Goodman\n\nProgram related to issues affecting mental health
  of Second Generations
DTSTART;TZID=America/New_York:20180318T170000
DTEND;TZID=America/New_York:20180318T190000
END:VEVENT
END:VCALENDAR
