BEGIN:VCALENDAR
PRODID:-//eluceo/ical//2.0/EN
VERSION:2.0
CALSCALE:GREGORIAN
BEGIN:VEVENT
UID:0fbdd27ba20eeafebc13adc4c8491002
DTSTAMP:20260424T025501Z
SUMMARY:GenShoah Potluck
DESCRIPTION:Jewish Federation of Greater Naples\nCommunity Calendar\nhttps:
 //jewishnaples.org/calendar/genshoah-potluck-1655996355\n\nOpen to members
  of GenShoah\, an affinity group of the Holocaust Museum & Cohen Education
  Center for adult children and grandchildren of Holocaust Survivors.
DTSTART;TZID=America/New_York:20221218T170000
DTEND;TZID=America/New_York:20221218T190000
END:VEVENT
END:VCALENDAR
