BEGIN:VCALENDAR
PRODID:-//eluceo/ical//2.0/EN
VERSION:2.0
CALSCALE:GREGORIAN
BEGIN:VEVENT
UID:d978c7cd7f092f9cbeaeacc617debb34
DTSTAMP:20260423T200625Z
SUMMARY:GenShoah Nov. Event
DESCRIPTION:Jewish Federation of Greater Naples\nCommunity Calendar\nhttps:
 //jewishnaples.org/calendar/genshoah-nov-event\n\nGenShoah Event\n\n4:30 P
 M
DTSTART;TZID=America/New_York:20181118T163000
DTEND;TZID=America/New_York:20181118T183000
END:VEVENT
END:VCALENDAR
