BEGIN:VCALENDAR
PRODID:-//eluceo/ical//2.0/EN
VERSION:2.0
CALSCALE:GREGORIAN
BEGIN:VEVENT
UID:5f1d683a2899813a6c6feeb4df4dd744
DTSTAMP:20260423T022041Z
SUMMARY:GenShoah Member and Survivor Reception
DESCRIPTION:Jewish Federation of Greater Naples\nCommunity Calendar\nhttps:
 //jewishnaples.org/calendar/genshoah-member-and-survivor-reception-1745596
 505\n\nGenShoah Members and Survivors are invited to attend a reception on
  International Holocaust Remembrance Day at the Museum. Program will inclu
 de speaker Emily Murray. Reservation required at hmcec.org/calendar.
DTSTART;TZID=America/New_York:20260127T100000
DTEND;TZID=America/New_York:20260127T120000
END:VEVENT
END:VCALENDAR
