BEGIN:VCALENDAR
PRODID:-//eluceo/ical//2.0/EN
VERSION:2.0
CALSCALE:GREGORIAN
BEGIN:VEVENT
UID:39d23b4486aa1cf6b4de842764b2b0c7
DTSTAMP:20260424T003054Z
SUMMARY:GenShoah Film at S. Regional Library
DESCRIPTION:Jewish Federation of Greater Naples\nCommunity Calendar\nhttps:
 //jewishnaples.org/calendar/genshoah-film-at-s-regional-library\n\nGenShoa
 h film at South Regional Library\n\nfor\n\nJewish History Week in Florida\
 n\n"The Long Way Home"
DTSTART;TZID=America/New_York:20180116T140000
DTEND;TZID=America/New_York:20180116T160000
END:VEVENT
END:VCALENDAR
