BEGIN:VCALENDAR
PRODID:-//eluceo/ical//2.0/EN
VERSION:2.0
CALSCALE:GREGORIAN
BEGIN:VEVENT
UID:b824753caf2ccaf782c91f9c89a5511d
DTSTAMP:20260423T090425Z
SUMMARY:GenShoah Film
DESCRIPTION:Jewish Federation of Greater Naples\nCommunity Calendar\nhttps:
 //jewishnaples.org/calendar/genshoah-film-1587392605\n\nGenShoah Wednesday
 \, November 11 6:30 pm Film
DTSTART;TZID=America/New_York:20201111T183000
DTEND;TZID=America/New_York:20201111T203000
END:VEVENT
END:VCALENDAR
