BEGIN:VCALENDAR
PRODID:-//eluceo/ical//2.0/EN
VERSION:2.0
CALSCALE:GREGORIAN
BEGIN:VEVENT
UID:3d3408401fe081a07a89d520cfd67ec8
DTSTAMP:20260422T110959Z
SUMMARY:GenShoah Film
DESCRIPTION:Jewish Federation of Greater Naples\nCommunity Calendar\nhttps:
 //jewishnaples.org/calendar/genshoah-film-1580330226\n\nTuesday\, January 
 12\, 2021\n\n2 p.m.\n\nFilm at South Regional Library for Jewish History M
 onth in Florida\n\n \n\nJoin us for a film at the South Regional Library.
DTSTART;TZID=America/New_York:20210112T140000
DTEND;TZID=America/New_York:20210112T160000
END:VEVENT
END:VCALENDAR
