BEGIN:VCALENDAR
PRODID:-//eluceo/ical//2.0/EN
VERSION:2.0
CALSCALE:GREGORIAN
BEGIN:VEVENT
UID:468acc6b0840dbe9c814499e13c5de84
DTSTAMP:20260424T110932Z
SUMMARY:GenShoah Film
DESCRIPTION:Jewish Federation of Greater Naples\nCommunity Calendar\nhttps:
 //jewishnaples.org/calendar/genshoah-film\n\nGenShoah will show a film at
  Temple Shalom
DTSTART;TZID=America/New_York:20170131T190000
DTEND;TZID=America/New_York:20170131T210000
END:VEVENT
END:VCALENDAR
