BEGIN:VCALENDAR
PRODID:-//eluceo/ical//2.0/EN
VERSION:2.0
CALSCALE:GREGORIAN
BEGIN:VEVENT
UID:883caf213bfa6872618ca3ba84ccc2f4
DTSTAMP:20260421T235147Z
SUMMARY:GenShoah 'Fanny's Journey'
DESCRIPTION:Jewish Federation of Greater Naples\nCommunity Calendar\nhttps:
 //jewishnaples.org/calendar/genshoah-fannys-journey\n\nGenShoah\n\n​film
  at Beth Tikvah\n\n"Fanny's Journey"
DTSTART;TZID=America/New_York:20180206T190000
DTEND;TZID=America/New_York:20180206T210000
END:VEVENT
END:VCALENDAR
