BEGIN:VCALENDAR
PRODID:-//eluceo/ical//2.0/EN
VERSION:2.0
CALSCALE:GREGORIAN
BEGIN:VEVENT
UID:53c1e61ed01b63e822983318a7421f48
DTSTAMP:20260421T222745Z
SUMMARY:GenShoah Dr. Paul Bartrop
DESCRIPTION:Jewish Federation of Greater Naples\nCommunity Calendar\nhttps:
 //jewishnaples.org/calendar/genshoah-dr-paul-bartrop\n\nGenShoah\n\nDr. Pa
 ul Bartrop will speak about his new book "Resisting the Holocaust"\n\n 
DTSTART;TZID=America/New_York:20171119T170000
DTEND;TZID=America/New_York:20171119T190000
END:VEVENT
END:VCALENDAR
