BEGIN:VCALENDAR
PRODID:-//eluceo/ical//2.0/EN
VERSION:2.0
CALSCALE:GREGORIAN
BEGIN:VEVENT
UID:04db267fd14cecf3f0ef84763087cbb2
DTSTAMP:20260420T022235Z
SUMMARY:GenShoah Dr. Andre Krauss
DESCRIPTION:Jewish Federation of Greater Naples\nCommunity Calendar\nhttps:
 //jewishnaples.org/calendar/genshoah-dr-andre-krauss\n\nGenShoah\n\nDr. An
 dre Krauss- art historian and media psychologist\n\n 
DTSTART;TZID=America/New_York:20180218T170000
DTEND;TZID=America/New_York:20180218T190000
END:VEVENT
END:VCALENDAR
