BEGIN:VCALENDAR
PRODID:-//eluceo/ical//2.0/EN
VERSION:2.0
CALSCALE:GREGORIAN
BEGIN:VEVENT
UID:5cb3e3d3c48d4f3133116a7ae336c29a
DTSTAMP:20260422T065027Z
SUMMARY:GenShoah & CJD\, Irena Sendler Film
DESCRIPTION:Jewish Federation of Greater Naples\nCommunity Calendar\nhttps:
 //jewishnaples.org/calendar/genshoah-cjd-irena-sendler-film\n\nGenShoah an
 d Catholic- Jewish Dialogue\n\npresents\n\nIrena Sendler Film\n\nat St. A
 gnes\n\nplease RSVP to:cjdialogue@naples.net\n\n \n\nYou are invited to w
 atch the film:\n\n \n\n“Irena Sendler: In the Name of Their Mothers”\
 n\n \n\nThis is the story of 29-year-old Irena Sendler\, a Catholic socia
 l worker\, saw the suffering of Warsaw's Jews\, and reached out to her mos
 t trusted colleagues for help\, and outwitted the Nazis during World War I
 I. Together\, they rescued over 2\,500 Jewish ch...
DTSTART;TZID=America/New_York:20171022T183000
DTEND;TZID=America/New_York:20171022T200000
END:VEVENT
END:VCALENDAR
