BEGIN:VCALENDAR
PRODID:-//eluceo/ical//2.0/EN
VERSION:2.0
CALSCALE:GREGORIAN
BEGIN:VEVENT
UID:136c2863745c84a2808422a04c45e06b
DTSTAMP:20260422T133206Z
SUMMARY:GenShoah Book Discussion
DESCRIPTION:Jewish Federation of Greater Naples\nCommunity Calendar\nhttps:
 //jewishnaples.org/calendar/genshoah-book-discussion-1749444942\n\nDiscuss
 ing Sabine's Odyssey
DTSTART;TZID=America/New_York:20260312T110000
DTEND;TZID=America/New_York:20260312T133000
END:VEVENT
END:VCALENDAR
