BEGIN:VCALENDAR
PRODID:-//eluceo/ical//2.0/EN
VERSION:2.0
CALSCALE:GREGORIAN
BEGIN:VEVENT
UID:ea633333bbba7b0559de05b3420d9029
DTSTAMP:20260423T023837Z
SUMMARY:GenShoah
DESCRIPTION:Jewish Federation of Greater Naples\nCommunity Calendar\nhttps:
 //jewishnaples.org/calendar/genshoah-1587393258\n\nWed. March 17 or  Wedne
 sday\, March 24 Speaker or Film  6:30 pm
DTSTART;TZID=America/New_York:20210317T183000
DTEND;TZID=America/New_York:20210317T203000
END:VEVENT
END:VCALENDAR
