BEGIN:VCALENDAR
PRODID:-//eluceo/ical//2.0/EN
VERSION:2.0
CALSCALE:GREGORIAN
BEGIN:VEVENT
UID:e1024a0044d6ca44e21fd7201ac634a3
DTSTAMP:20260423T115557Z
SUMMARY:GenShoah
DESCRIPTION:Jewish Federation of Greater Naples\nCommunity Calendar\nhttps:
 //jewishnaples.org/calendar/genshoah-1587393076\n\nSunday\, Feb 14- for 2g
 s and their guests  “Our Stories-A personal story about a hero in your l
 ife” At member’s home  2 pm
DTSTART;TZID=America/New_York:20210214T140000
DTEND;TZID=America/New_York:20210214T160000
END:VEVENT
END:VCALENDAR
