BEGIN:VCALENDAR
PRODID:-//eluceo/ical//2.0/EN
VERSION:2.0
CALSCALE:GREGORIAN
BEGIN:VEVENT
UID:8f163c8972f674ca0eaeb7335cd86718
DTSTAMP:20260423T223521Z
SUMMARY:GenShoah
DESCRIPTION:Jewish Federation of Greater Naples\nCommunity Calendar\nhttps:
 //jewishnaples.org/calendar/genshoah-1526661172\n\nGenShoah
DTSTART;TZID=America/New_York:20190421T163000
DTEND;TZID=America/New_York:20190421T183000
END:VEVENT
END:VCALENDAR
