BEGIN:VCALENDAR
PRODID:-//eluceo/ical//2.0/EN
VERSION:2.0
CALSCALE:GREGORIAN
BEGIN:VEVENT
UID:12a455974843f041e215e659e6760bea
DTSTAMP:20260423T194344Z
SUMMARY:GenShoah
DESCRIPTION:Jewish Federation of Greater Naples\nCommunity Calendar\nhttps:
 //jewishnaples.org/calendar/genshoah\n\nGenShoah
DTSTART;TZID=America/New_York:20181021T163000
DTEND;TZID=America/New_York:20181021T183000
END:VEVENT
END:VCALENDAR
