BEGIN:VCALENDAR
PRODID:-//eluceo/ical//2.0/EN
VERSION:2.0
CALSCALE:GREGORIAN
BEGIN:VEVENT
UID:5dd6724b3765ba4cee0d9d8fe237550c
DTSTAMP:20260424T130647Z
SUMMARY:Game Day
DESCRIPTION:Jewish Federation of Greater Naples\nCommunity Calendar\nhttps:
 //jewishnaples.org/calendar/game-day-1566925321\n\nGame Day and Mingling\n
 \nPlease join us for a variety of\nboard games\, puzzles and coloring.\nLe
 t’s Mingle and have fun!\n\nWhen: Join us for one or all dates:\nThursda
 y\, September 19\nThursday\, October 24\nWhere: Jewish Federation of Great
 er Naples\nTime: 10:00-11 am\nCost: Free.\n\nReservations:\nPlease email m
 e here and let me know which date(s) you can attend.\nFeel free to bring y
 our favorite board game with you.
DTSTART;TZID=America/New_York:20190919T100000
DTEND;TZID=America/New_York:20190919T110000
END:VEVENT
END:VCALENDAR
