BEGIN:VCALENDAR
PRODID:-//eluceo/ical//2.0/EN
VERSION:2.0
CALSCALE:GREGORIAN
BEGIN:VEVENT
UID:a9cf5b280159ef0979f4f73de0c52413
DTSTAMP:20260420T141407Z
SUMMARY:Fundr Baker Senior Center Gala
DESCRIPTION:Jewish Federation of Greater Naples\nCommunity Calendar\nhttps:
 //jewishnaples.org/calendar/fundr-baker-senior-center-gala-1711479667\n\nB
 aker Senior Center \n\nGala\, An Evening for Better Tomorrows
DTSTART;TZID=America/New_York:20250111T170000
DTEND;TZID=America/New_York:20250111T190000
END:VEVENT
END:VCALENDAR
