BEGIN:VCALENDAR
PRODID:-//eluceo/ical//2.0/EN
VERSION:2.0
CALSCALE:GREGORIAN
BEGIN:VEVENT
UID:6eab67102de001cc73ba9f721cc88a94
DTSTAMP:20260422T065607Z
SUMMARY:Friday night services and dinner at Naples Jewish Congregation
DESCRIPTION:Jewish Federation of Greater Naples\nCommunity Calendar\nhttps:
 //jewishnaples.org/calendar/friday-night-services-and-dinner-at-naples-jew
 ish-congregation-1714308930\n\nWe will enjoy a light outdoor dinner in our
  beautiful pavilion followed by Friday evening Service lead by Rabbi Howar
 d Herman.\n\nCost of dinner is $10. Please RSVP.
DTSTART;TZID=America/New_York:20240531T180000
DTEND;TZID=America/New_York:20240531T210000
END:VEVENT
END:VCALENDAR
