BEGIN:VCALENDAR
PRODID:-//eluceo/ical//2.0/EN
VERSION:2.0
CALSCALE:GREGORIAN
BEGIN:VEVENT
UID:31e97e37d32ec4d09bbc6ce7e75148bc
DTSTAMP:20260423T054434Z
SUMMARY:Finding Love
DESCRIPTION:Jewish Federation of Greater Naples\nCommunity Calendar\nhttps:
 //jewishnaples.org/calendar/finding-love\n\nWho: All Jewish senior singles
  are invited to attend.\n\nWhen: Tuesday\, April 24 at 6:00 PM\n\nWhere: J
 oin us for dinner at Temple Shalom at 6:00 PM followed by David Essel’s 
 talk on: Finding Love Again After 55.\n\nCost: Dinner & Speaker cost is $2
 0 and must be paid in advance. Call Renee’ at 239-263-4205.\n\nJason’s
  Deli dinner choice: Turkey sandwich OR Spinach veggie wrap. Please tell R
 enee’ which one you prefer when making your reservation.\n\n \n\nReserv
 ations are needed by Fri...
DTSTART;TZID=America/New_York:20180424T180000
DTEND;TZID=America/New_York:20180424T200000
END:VEVENT
END:VCALENDAR
