BEGIN:VCALENDAR
PRODID:-//eluceo/ical//2.0/EN
VERSION:2.0
CALSCALE:GREGORIAN
BEGIN:VEVENT
UID:d920f61b1bab6534593b10c489e329c9
DTSTAMP:20260423T021955Z
SUMMARY:Federation Shabbat at JCMI
DESCRIPTION:Jewish Federation of Greater Naples\nCommunity Calendar\nhttps:
 //jewishnaples.org/calendar/federation-shabbat-at-jcmi-1676924430\n\nJoin 
 us at Jewish Congregation of Marco Island for a Jewish Federation of Great
 er Naples' Shabbat
DTSTART;TZID=America/New_York:20240308T170000
DTEND;TZID=America/New_York:20240308T210000
END:VEVENT
END:VCALENDAR
