BEGIN:VCALENDAR
PRODID:-//eluceo/ical//2.0/EN
VERSION:2.0
CALSCALE:GREGORIAN
BEGIN:VEVENT
UID:a5839a71d5f0096b2355826812bbf5ce
DTSTAMP:20260420T043558Z
SUMMARY:Federation JFGN Shabbat at JCMI
DESCRIPTION:Jewish Federation of Greater Naples\nCommunity Calendar\nhttps:
 //jewishnaples.org/calendar/federation-jfgn-shabbat-at-jcmi-1526653864\n\n
 Federation JFGN Shabbat at JCMI
DTSTART;TZID=America/New_York:20190301T193000
DTEND;TZID=America/New_York:20190301T213000
END:VEVENT
END:VCALENDAR
