BEGIN:VCALENDAR
PRODID:-//eluceo/ical//2.0/EN
VERSION:2.0
CALSCALE:GREGORIAN
BEGIN:VEVENT
UID:5dbf5026b1b8d7dbff3641d83163081e
DTSTAMP:20260423T120257Z
SUMMARY:FedCup 2017
DESCRIPTION:Jewish Federation of Greater Naples\nCommunity Calendar\nhttps:
 //jewishnaples.org/calendar/fedcup-2017\n\n \n\nATTENTION: 2017 FED CUP P
 ARTICIPANTS\n\n \n\n We are excited and ready to welcome you to our \n\n
 8th annual FED CUP on Sunday\, December 17\, 2017\n\n \n\n \n\nWe’re 
 playing at the best time of the year\, at a phenomenal course with cart\, 
 beverages on course\, goodie bag\, on course prizes for hole-in-1\, lunch\
 , awards banquet and some incredible auction items for you to bid on.\n\n
  \n\nThe best part is that proceeds from this event will enable a number 
 of kids and teens in ou...
DTSTART;TZID=America/New_York:20171217T080000
DTEND;TZID=America/New_York:20171217T140000
END:VEVENT
END:VCALENDAR
