BEGIN:VCALENDAR
PRODID:-//eluceo/ical//2.0/EN
VERSION:2.0
CALSCALE:GREGORIAN
BEGIN:VEVENT
UID:1ec8c99997feabdab017c0d1c4feb64a
DTSTAMP:20260423T010852Z
SUMMARY:Fed Star Editorial Deadline
DESCRIPTION:Jewish Federation of Greater Naples\nCommunity Calendar\nhttps:
 //jewishnaples.org/calendar/fed-star-editorial-deadline\n\nSubmit all Fede
 ration Star Editorials
DTSTART;TZID=America/New_York:20170101T090000
DTEND;TZID=America/New_York:20170101T090000
END:VEVENT
END:VCALENDAR
