BEGIN:VCALENDAR
PRODID:-//eluceo/ical//2.0/EN
VERSION:2.0
CALSCALE:GREGORIAN
BEGIN:VEVENT
UID:ff9ea6be445554efd6f5ad963642df75
DTSTAMP:20260424T012104Z
SUMMARY:Family with Children- August
DESCRIPTION:Jewish Federation of Greater Naples\nCommunity Calendar\nhttps:
 //jewishnaples.org/calendar/family-with-children--august-1557925358\n\nThe
  Jewish Federation of Greater Naples invites Families with children to a '
 back to school fun day at the park'. Contact JFGN for more details.
DTSTART;TZID=America/New_York:20190818T100000
DTEND;TZID=America/New_York:20190818T113000
END:VEVENT
END:VCALENDAR
