BEGIN:VCALENDAR
PRODID:-//eluceo/ical//2.0/EN
VERSION:2.0
CALSCALE:GREGORIAN
BEGIN:VEVENT
UID:0571db889b5dd429bed874bbceae7e0b
DTSTAMP:20260420T080100Z
SUMMARY:Estate Planning Webinar
DESCRIPTION:Jewish Federation of Greater Naples\nCommunity Calendar\nhttps:
 //jewishnaples.org/calendar/estate-planning-webinar-1633030867\n\nJoin TOP
  Jewish Foundation for a webinar on the topic of Estate Planning Basics.\n
 \nRegister here! https://us02web.zoom.us/meeting/register/tZUkcu2ppzIpHNK3
 gEDx9yl5wSEWd_ARX19E
DTSTART;TZID=America/New_York:20211019T120000
DTEND;TZID=America/New_York:20211019T130000
END:VEVENT
END:VCALENDAR
