BEGIN:VCALENDAR
PRODID:-//eluceo/ical//2.0/EN
VERSION:2.0
CALSCALE:GREGORIAN
BEGIN:VEVENT
UID:62f0d6b8e387383f1d47f50c6455d67f
DTSTAMP:20260422T123802Z
SUMMARY:Elliott Katz Lectures in November
DESCRIPTION:Jewish Federation of Greater Naples\nCommunity Calendar\nhttps:
 //jewishnaples.org/calendar/elliott-katz-lectures-in-november-1744887600\n
 \nNovember 5 & 19 from 10-11:30\n\nNovember 12 from 9:30-11 am
DTSTART;TZID=America/New_York:20251105T100000
DTEND;TZID=America/New_York:20251105T113000
END:VEVENT
END:VCALENDAR
