BEGIN:VCALENDAR
PRODID:-//eluceo/ical//2.0/EN
VERSION:2.0
CALSCALE:GREGORIAN
BEGIN:VEVENT
UID:1f565183e91323ae1577c2b7252569d0
DTSTAMP:20260424T110852Z
SUMMARY:Elliott Katz Lectures
DESCRIPTION:Jewish Federation of Greater Naples\nCommunity Calendar\nhttps:
 //jewishnaples.org/calendar/elliott-katz-lectures-1716225974\n\nElliott Ka
 tz Lectures\nat the\nNina Iser Jewish Cultural Center at 10 am\n\nMarch 28
 :  The Longest Hatred\n\nHistory encompasses 2500 years of anti-Semitism.
  We will explore when it began\, its past manifestations and how it has mo
 rphed into an outburst of Jewish hatred in the 21st century. Learn how the
  new anti-Semitism is different than the old anti-Semitism and how and why
  it has become a worldwide phenomenon.
DTSTART;TZID=America/New_York:20250328T100000
DTEND;TZID=America/New_York:20250328T113000
END:VEVENT
END:VCALENDAR
