BEGIN:VCALENDAR
PRODID:-//eluceo/ical//2.0/EN
VERSION:2.0
CALSCALE:GREGORIAN
BEGIN:VEVENT
UID:bf35006ff5aa9154301822872927c95e
DTSTAMP:20260422T141728Z
SUMMARY:Elliott Katz Lecture
DESCRIPTION:Jewish Federation of Greater Naples\nCommunity Calendar\nhttps:
 //jewishnaples.org/calendar/elliott-katz-lecture-1737904015\n\nNo Good D
 eed Goes Unpunished \n\n The civil rights movement of the 1960
 ’s was an awakening for many Americans. None more so\, than y
 oung American \n\nJews. Joining to help fight segregation\, many 
 were beaten and imprisoned in southern jails. \n\nTwo gave their
  lives for the cause. Their reward was not what you would have
  expected. \n\nYou will learn that no good deed goes unpunished.
 \n\n \n\nPlease note: this is the same lecture ...
DTSTART;TZID=America/New_York:20250317T100000
DTEND;TZID=America/New_York:20250317T113000
END:VEVENT
END:VCALENDAR
