BEGIN:VCALENDAR
PRODID:-//eluceo/ical//2.0/EN
VERSION:2.0
CALSCALE:GREGORIAN
BEGIN:VEVENT
UID:e480c7892eb6985c418d5fe7bdf50d66
DTSTAMP:20260424T105003Z
SUMMARY:Elliott Katz Lecture
DESCRIPTION:Jewish Federation of Greater Naples\nCommunity Calendar\nhttps:
 //jewishnaples.org/calendar/elliott-katz-lecture-1716225882\n\nElliott Kat
 z Lecture\nat the\nNina Iser Jewish Cultural Center at 10 am\n\nFebruary 1
 4: The Partition of India\, Wounds That Never Heal\n\nWhen the British gov
 ernment agreed to partition India in August 1947\, the resulting human cat
 astrophe of displacement\, misery and death would be squarely placed on th
 e shoulders of England’s leaders\, one in particular. Learn who was real
 ly responsible for this disaster and why it happened.\n\n \n\nFebruary 21
 : Lawrence of Arabia Meets NILI\n\nThomas Edwa...
DTSTART;TZID=America/New_York:20250214T100000
DTEND;TZID=America/New_York:20250214T113000
END:VEVENT
END:VCALENDAR
