BEGIN:VCALENDAR
PRODID:-//eluceo/ical//2.0/EN
VERSION:2.0
CALSCALE:GREGORIAN
BEGIN:VEVENT
UID:3697ba946c5e78b41dd06fb70ef97f6f
DTSTAMP:20260423T232242Z
SUMMARY:Elliott Katz Lecture
DESCRIPTION:Jewish Federation of Greater Naples\nCommunity Calendar\nhttps:
 //jewishnaples.org/calendar/elliott-katz-lecture-1710267099\n\nMarch 29: S
 aluting America And the American Soldier
DTSTART;TZID=America/New_York:20240329T100000
DTEND;TZID=America/New_York:20240329T113000
END:VEVENT
END:VCALENDAR
