BEGIN:VCALENDAR
PRODID:-//eluceo/ical//2.0/EN
VERSION:2.0
CALSCALE:GREGORIAN
BEGIN:VEVENT
UID:e9da2d9b2737dfa1c63a1d42dbb834e9
DTSTAMP:20260422T180233Z
SUMMARY:HolMsm Ellaine Rosen Lecture 3 of 5 "Nazi Looted Art - Unfinished B
 usiness"
DESCRIPTION:Jewish Federation of Greater Naples\nCommunity Calendar\nhttps:
 //jewishnaples.org/calendar/ellaine-rosen-lecture-3-of-5-nazi-looted-art--
 -unfinished-business-1654798722\n\nHolocaust Museum Docent Ellaine Rosen p
 resents a 5-part lecture series on "Nazi Looted Art - Unfinished Business.
 " Visit www.HMCEC.org for details.\n\nHolocaust Museum Docent Ellaine Rose
 n presents a 5-part lecture series on "Nazi Looted Art - Unfinished Busine
 ss." There is no charge for the series\, but you must register at http://w
 eblink.donorperfect.com/EllaineArtSeries2023. Donations are appreciated
DTSTART;TZID=America/New_York:20230130T140000
DTEND;TZID=America/New_York:20230130T160000
END:VEVENT
END:VCALENDAR
