BEGIN:VCALENDAR
PRODID:-//eluceo/ical//2.0/EN
VERSION:2.0
CALSCALE:GREGORIAN
BEGIN:VEVENT
UID:aa765a9b8870cf966d299a9cc1b5b3dd
DTSTAMP:20260423T134718Z
SUMMARY:Dr. Jasser
DESCRIPTION:Jewish Federation of Greater Naples\nCommunity Calendar\nhttps:
 //jewishnaples.org/calendar/dr-jasser\n\nJFCC/IAC & TS presents: Dr. Jass
 er at Temple Shalom. Fee to attend.\n\n 
DTSTART;TZID=America/New_York:20170222T190000
DTEND;TZID=America/New_York:20170222T190000
END:VEVENT
END:VCALENDAR
