BEGIN:VCALENDAR
PRODID:-//eluceo/ical//2.0/EN
VERSION:2.0
CALSCALE:GREGORIAN
BEGIN:VEVENT
UID:460772f9fd1b2b1c6da623881f88f84b
DTSTAMP:20260424T130243Z
SUMMARY:Donor Advised Funds\, for Beginners and Beyond the Basics
DESCRIPTION:Jewish Federation of Greater Naples\nCommunity Calendar\nhttps:
 //jewishnaples.org/calendar/donor-advised-funds-for-beginners-and-beyond-t
 he-basics-1635883445\n\nTOP Jewish Foundation presents: Donor Advised Fund
 s\, for Beginners and Donor Advised Funds\, Beyond the Basics~ Two in one!
  Please register with the corresponding links below\, we look forward to h
 aving you!\n\nClick here for Donor advised funds for Beginners- November 1
 8th at 12:00-1:00pm:\nhttps://us02web.zoom.us/meeting/register/tZIvde2rqzo
 oGtD92o3WZzMgowmF290gwoRx\n\nClick here for Donor advised funds\, Beyond t
 he Basics- November 18th at 2:00-3:00pm: https://us02web.zoom.us/meeting/r
 egister...
DTSTART;TZID=America/New_York:20211118T120000
DTEND;TZID=America/New_York:20211118T150000
END:VEVENT
END:VCALENDAR
