BEGIN:VCALENDAR
PRODID:-//eluceo/ical//2.0/EN
VERSION:2.0
CALSCALE:GREGORIAN
BEGIN:VEVENT
UID:c41ec4992c0297b444a616c03f17502e
DTSTAMP:20260424T191100Z
SUMMARY:Dog lovers
DESCRIPTION:Jewish Federation of Greater Naples\nCommunity Calendar\nhttps:
 //jewishnaples.org/calendar/dog-lovers-1587471950\n\nShow us your pet dog.
DTSTART;TZID=America/New_York:20200514T123000
DTEND;TZID=America/New_York:20200514T133000
END:VEVENT
END:VCALENDAR
