BEGIN:VCALENDAR
PRODID:-//eluceo/ical//2.0/EN
VERSION:2.0
CALSCALE:GREGORIAN
BEGIN:VEVENT
UID:2d86ae4396a576cd27dabeceeca7330b
DTSTAMP:20260423T080307Z
SUMMARY:Doc Film Dec 2
DESCRIPTION:Jewish Federation of Greater Naples\nCommunity Calendar\nhttps:
 //jewishnaples.org/calendar/doc-film-dec-2-1744731325\n\nDocumentary Film
DTSTART;TZID=America/New_York:20251202T133000
DTEND;TZID=America/New_York:20251202T153000
END:VEVENT
END:VCALENDAR
