BEGIN:VCALENDAR
PRODID:-//eluceo/ical//2.0/EN
VERSION:2.0
CALSCALE:GREGORIAN
BEGIN:VEVENT
UID:dc549d7e5d9ddf065628f5f4261eb41b
DTSTAMP:20260422T104659Z
SUMMARY:Discover Your Jewish Heritage: A Beginner's Guide
DESCRIPTION:Jewish Federation of Greater Naples\nCommunity Calendar\nhttps:
 //jewishnaples.org/calendar/discover-your-jewish-heritage-a-beginners-guid
 e-1734568682\n\nDiscover Your Jewish Heritage: A Beginner's Guide\n\nCurio
 us about your family’s story? This engaging session will guide you throu
 gh the essential first steps of Jewish genealogy. Learn how to gather fami
 ly details\, interview relatives\, organize records\, and navigate online 
 tools.\n\nWe’ll answer questions like: Where do I start? How much does i
 t cost? What value does this research bring? Gain practical tips and strat
 egies to uncover your roots and preserve your legacy.\n\nWith insights f..
 .
DTSTART;TZID=America/New_York:20250123T130000
DTEND;TZID=America/New_York:20250123T140000
END:VEVENT
END:VCALENDAR
